BEGIN:VCALENDAR
VERSION:2.0
PRODID:-// - ECPv6.15.20//NONSGML v1.0//EN
CALSCALE:GREGORIAN
METHOD:PUBLISH
X-ORIGINAL-URL:https://midfex.org
X-WR-CALDESC:Events for 
REFRESH-INTERVAL;VALUE=DURATION:PT1H
X-Robots-Tag:noindex
X-PUBLISHED-TTL:PT1H
BEGIN:VTIMEZONE
TZID:America/Chicago
BEGIN:DAYLIGHT
TZOFFSETFROM:-0600
TZOFFSETTO:-0500
TZNAME:CDT
DTSTART:20220313T080000
END:DAYLIGHT
BEGIN:STANDARD
TZOFFSETFROM:-0500
TZOFFSETTO:-0600
TZNAME:CST
DTSTART:20221106T070000
END:STANDARD
BEGIN:DAYLIGHT
TZOFFSETFROM:-0600
TZOFFSETTO:-0500
TZNAME:CDT
DTSTART:20230312T080000
END:DAYLIGHT
BEGIN:STANDARD
TZOFFSETFROM:-0500
TZOFFSETTO:-0600
TZNAME:CST
DTSTART:20231105T070000
END:STANDARD
BEGIN:DAYLIGHT
TZOFFSETFROM:-0600
TZOFFSETTO:-0500
TZNAME:CDT
DTSTART:20240310T080000
END:DAYLIGHT
BEGIN:STANDARD
TZOFFSETFROM:-0500
TZOFFSETTO:-0600
TZNAME:CST
DTSTART:20241103T070000
END:STANDARD
END:VTIMEZONE
BEGIN:VEVENT
DTSTART;TZID=America/Chicago:20231105T090000
DTEND;TZID=America/Chicago:20231105T160000
DTSTAMP:20260424T174248
CREATED:20231019T005543Z
LAST-MODIFIED:20231019T005606Z
UID:2183-1699174800-1699200000@midfex.org
SUMMARY:Apple Cider Social
DESCRIPTION:Event Description: Do you have more apples than you know what to do with? Do some have blemishes or minor insect damage that would prevent you from eating them raw? Instead of tossing them into the compost heap bring then to the cider social and take home your own handmade cider! \n\n\n\n\n\nWe’ll have the club’s own cider presses in-play and running all day. We typically have this event two weeks after Harvest Festival and apples may be available to purchase if leftover from Harvest Festival. \n\n\n\nMembers are encouraged to bring their own apples\, homegrown or store bought to press into cider. Bring your own containers large enough to hold the cider from your apples. Clean gallon milk jugs work great! Pulp from the cider press will be available for composting as well. It is typically chilly that time of the year so dress accordingly. \n\n\n\n\n\nDate: Sunday November 5\, 2023 \n\n\n\nTime: 9am – until 4pm \n\n\n\nLocation: See Grapevine or Members Only page \n\n\n\nDirections: See Grapevine or Members Only page \n\n\n\nEvent Details: This event is for members and guests of members.  See your Grapevine newsletter or the Members Only page for additional details.
URL:https://midfex.org/event/apple-cider-social/
CATEGORIES:Member Event
END:VEVENT
END:VCALENDAR