BEGIN:VCALENDAR
VERSION:2.0
PRODID:-// - ECPv6.15.20//NONSGML v1.0//EN
CALSCALE:GREGORIAN
METHOD:PUBLISH
X-ORIGINAL-URL:https://midfex.org
X-WR-CALDESC:Events for 
REFRESH-INTERVAL;VALUE=DURATION:PT1H
X-Robots-Tag:noindex
X-PUBLISHED-TTL:PT1H
BEGIN:VTIMEZONE
TZID:America/Chicago
BEGIN:DAYLIGHT
TZOFFSETFROM:-0600
TZOFFSETTO:-0500
TZNAME:CDT
DTSTART:20240310T080000
END:DAYLIGHT
BEGIN:STANDARD
TZOFFSETFROM:-0500
TZOFFSETTO:-0600
TZNAME:CST
DTSTART:20241103T070000
END:STANDARD
BEGIN:DAYLIGHT
TZOFFSETFROM:-0600
TZOFFSETTO:-0500
TZNAME:CDT
DTSTART:20250309T080000
END:DAYLIGHT
BEGIN:STANDARD
TZOFFSETFROM:-0500
TZOFFSETTO:-0600
TZNAME:CST
DTSTART:20251102T070000
END:STANDARD
BEGIN:DAYLIGHT
TZOFFSETFROM:-0600
TZOFFSETTO:-0500
TZNAME:CDT
DTSTART:20260308T080000
END:DAYLIGHT
BEGIN:STANDARD
TZOFFSETFROM:-0500
TZOFFSETTO:-0600
TZNAME:CST
DTSTART:20261101T070000
END:STANDARD
BEGIN:DAYLIGHT
TZOFFSETFROM:-0600
TZOFFSETTO:-0500
TZNAME:CDT
DTSTART:20270314T080000
END:DAYLIGHT
BEGIN:STANDARD
TZOFFSETFROM:-0500
TZOFFSETTO:-0600
TZNAME:CST
DTSTART:20271107T070000
END:STANDARD
END:VTIMEZONE
BEGIN:VEVENT
DTSTART;TZID=America/Chicago:20250126T113000
DTEND;TZID=America/Chicago:20250126T160000
DTSTAMP:20260425T101627
CREATED:20250108T192901Z
LAST-MODIFIED:20250116T011757Z
UID:2819-1737891000-1737907200@midfex.org
SUMMARY:2025 Annual Business Meeting
DESCRIPTION:2025 Annual Business Meeting – Sunday\, January 26\n\n\nEvent Description: The Club’s annual potluck business meeting day is Sunday\, January 26\, 2025. \nWhat better way to chase away the winter chill than with a steaming bowl of homemade soup? \nOur annual business meeting will begin with our annual Soup Bowl Luncheon. Potluck hot lunch will be followed by election of officers\, other club business\, and much gabbing about fruit growing as usual. \nDate: Sunday\, January 26th \nTime: 11:30am (setup); noon – 4:00pm (meeting) \nLocation: See Grapevine or Members Only page \nDirections: See Grapevine or Members Only page \nEvent Details: This is a member only event.  See your Grapevine newsletter or the Members Only page for additional details.
URL:https://midfex.org/event/2025-annual-business-meeting/
CATEGORIES:Member Event
END:VEVENT
BEGIN:VEVENT
DTSTART;TZID=America/Chicago:20250223T110000
DTEND;TZID=America/Chicago:20250223T123000
DTSTAMP:20260425T101627
CREATED:20241121T011348Z
LAST-MODIFIED:20250116T014110Z
UID:2721-1740308400-1740313800@midfex.org
SUMMARY:Kurle Memorial Lecture
DESCRIPTION:Full event details are HERE.
URL:https://midfex.org/event/kurle-memorial-lecture/
LOCATION:Chicago Botanic Garden\, 1000 Lake Cook Rd\, Glencoe\, IL\, 60022
CATEGORIES:Member Event
END:VEVENT
BEGIN:VEVENT
DTSTART;TZID=America/Chicago:20250720T100000
DTEND;TZID=America/Chicago:20250720T163000
DTSTAMP:20260425T101627
CREATED:20250522T004250Z
LAST-MODIFIED:20250522T004250Z
UID:3141-1753005600-1753029000@midfex.org
SUMMARY:2025 Summer Picnic
DESCRIPTION:Stay Tuned!! The venue will be announced shortly.
URL:https://midfex.org/event/2025-summer-picnic/
CATEGORIES:Member Event
END:VEVENT
BEGIN:VEVENT
DTSTART;TZID=America/Chicago:20250802T130000
DTEND;TZID=America/Chicago:20250802T143000
DTSTAMP:20260425T101627
CREATED:20250522T011413Z
LAST-MODIFIED:20250717T012034Z
UID:3153-1754139600-1754145000@midfex.org
SUMMARY:Orchard Walk
DESCRIPTION:Tour an eco-friendly suburban garden in La Grange\, hosted by Veronica T. \nAll details are HERE. \n 
URL:https://midfex.org/event/orchard-walk/
CATEGORIES:Member Event
END:VEVENT
BEGIN:VEVENT
DTSTART;TZID=America/Chicago:20251102T100000
DTEND;TZID=America/Chicago:20251102T150000
DTSTAMP:20260425T101627
CREATED:20251016T004856Z
LAST-MODIFIED:20251016T004907Z
UID:3394-1762077600-1762095600@midfex.org
SUMMARY:Cider Social
DESCRIPTION:Cider Social – Sunday November 2\, 2025
URL:https://midfex.org/event/cider-social/
CATEGORIES:Member Event
END:VEVENT
BEGIN:VEVENT
DTSTART;TZID=America/Chicago:20260215T120000
DTEND;TZID=America/Chicago:20260215T160000
DTSTAMP:20260425T101627
CREATED:20260124T180004Z
LAST-MODIFIED:20260124T180004Z
UID:3555-1771156800-1771171200@midfex.org
SUMMARY:MidFex Annual Business Meeting
DESCRIPTION:All details are here:  https://midfex.org/2026/01/24/2026-annual-business-mtg/
URL:https://midfex.org/event/midfex-annual-business-meeting/
CATEGORIES:Member Event
END:VEVENT
BEGIN:VEVENT
DTSTART;TZID=America/Chicago:20260426T140000
DTEND;TZID=America/Chicago:20260426T160000
DTSTAMP:20260425T101627
CREATED:20260403T194158Z
LAST-MODIFIED:20260403T194158Z
UID:3815-1777212000-1777219200@midfex.org
SUMMARY:Social Event- April Wine Club
DESCRIPTION:See event details HERE.
URL:https://midfex.org/event/social-event-april-wine-club/
CATEGORIES:Member Event
END:VEVENT
END:VCALENDAR