BEGIN:VCALENDAR
VERSION:2.0
PRODID:-// - ECPv6.15.20//NONSGML v1.0//EN
CALSCALE:GREGORIAN
METHOD:PUBLISH
X-ORIGINAL-URL:https://midfex.org
X-WR-CALDESC:Events for 
REFRESH-INTERVAL;VALUE=DURATION:PT1H
X-Robots-Tag:noindex
X-PUBLISHED-TTL:PT1H
BEGIN:VTIMEZONE
TZID:America/Chicago
BEGIN:DAYLIGHT
TZOFFSETFROM:-0600
TZOFFSETTO:-0500
TZNAME:CDT
DTSTART:20220313T080000
END:DAYLIGHT
BEGIN:STANDARD
TZOFFSETFROM:-0500
TZOFFSETTO:-0600
TZNAME:CST
DTSTART:20221106T070000
END:STANDARD
BEGIN:DAYLIGHT
TZOFFSETFROM:-0600
TZOFFSETTO:-0500
TZNAME:CDT
DTSTART:20230312T080000
END:DAYLIGHT
BEGIN:STANDARD
TZOFFSETFROM:-0500
TZOFFSETTO:-0600
TZNAME:CST
DTSTART:20231105T070000
END:STANDARD
BEGIN:DAYLIGHT
TZOFFSETFROM:-0600
TZOFFSETTO:-0500
TZNAME:CDT
DTSTART:20240310T080000
END:DAYLIGHT
BEGIN:STANDARD
TZOFFSETFROM:-0500
TZOFFSETTO:-0600
TZNAME:CST
DTSTART:20241103T070000
END:STANDARD
END:VTIMEZONE
BEGIN:VEVENT
DTSTART;TZID=America/Chicago:20230219T130000
DTEND;TZID=America/Chicago:20230219T140000
DTSTAMP:20260423T052747
CREATED:20230209T022725Z
LAST-MODIFIED:20230209T022826Z
UID:343-1676811600-1676815200@midfex.org
SUMMARY:2023 Kurle Memorial Lecture - Session 1 Ronald Perry
DESCRIPTION:Professor Emeritus Ronald Perry\, Retired Chairman of the Horticulture Department of Michigan State University\, returns to the Kurle Lectern to provide espalier growing techniques and to discuss his recent book\, Espalier Fruit Plantings for Northern Gardens: Creating Fruit Trees (May 17\, 2022). \nDr. Perry has more than 50 years of experience in fruit research and is recognized as a leading tree fruit pomologist due to his pioneering activities in support of the Michigan apple and cherry industries. Dr. Perry’s research includes rootstock selection\, soil management\, and fruit tree production. \n  \nDate: Sunday\, February 19\, 2023\nTime: 1:00 p.m. central\nZoom Meeting ID: See Grapevine Update notice or Members Only page.
URL:https://midfex.org/event/2023-kurle-memorial-lecture-session-1-ronald-perry/
CATEGORIES:Member Event
END:VEVENT
END:VCALENDAR