BEGIN:VCALENDAR
VERSION:2.0
PRODID:-// - ECPv6.15.20//NONSGML v1.0//EN
CALSCALE:GREGORIAN
METHOD:PUBLISH
X-ORIGINAL-URL:https://midfex.org
X-WR-CALDESC:Events for 
REFRESH-INTERVAL;VALUE=DURATION:PT1H
X-Robots-Tag:noindex
X-PUBLISHED-TTL:PT1H
BEGIN:VTIMEZONE
TZID:America/Chicago
BEGIN:DAYLIGHT
TZOFFSETFROM:-0600
TZOFFSETTO:-0500
TZNAME:CDT
DTSTART:20250309T080000
END:DAYLIGHT
BEGIN:STANDARD
TZOFFSETFROM:-0500
TZOFFSETTO:-0600
TZNAME:CST
DTSTART:20251102T070000
END:STANDARD
BEGIN:DAYLIGHT
TZOFFSETFROM:-0600
TZOFFSETTO:-0500
TZNAME:CDT
DTSTART:20260308T080000
END:DAYLIGHT
BEGIN:STANDARD
TZOFFSETFROM:-0500
TZOFFSETTO:-0600
TZNAME:CST
DTSTART:20261101T070000
END:STANDARD
BEGIN:DAYLIGHT
TZOFFSETFROM:-0600
TZOFFSETTO:-0500
TZNAME:CDT
DTSTART:20270314T080000
END:DAYLIGHT
BEGIN:STANDARD
TZOFFSETFROM:-0500
TZOFFSETTO:-0600
TZNAME:CST
DTSTART:20271107T070000
END:STANDARD
END:VTIMEZONE
BEGIN:VEVENT
DTSTART;TZID=America/Chicago:20260502T100000
DTEND;TZID=America/Chicago:20260502T120000
DTSTAMP:20260423T024328
CREATED:20260403T161232Z
LAST-MODIFIED:20260403T161232Z
UID:3796-1777716000-1777723200@midfex.org
SUMMARY:Outreach Event- Gardening with our Community at Rolling Meadows Library
DESCRIPTION:See event details HERE.
URL:https://midfex.org/event/outreach-event-gardening-with-our-community-at-rolling-meadows-library/
LOCATION:Rolling Meadows Library\, 3110 Martin Ln\, Rolling Meadows\, IL\, 60008\, United States
CATEGORIES:Public Event
END:VEVENT
BEGIN:VEVENT
DTSTART;TZID=America/Chicago:20260523T070000
DTEND;TZID=America/Chicago:20260523T130000
DTSTAMP:20260423T024328
CREATED:20260403T001739Z
LAST-MODIFIED:20260403T001739Z
UID:3756-1779519600-1779541200@midfex.org
SUMMARY:Outreach Event - Lisle Farmers Market
DESCRIPTION:See all event details HERE.
URL:https://midfex.org/event/outreach-event-lisle-farmers-market/
LOCATION:Lisle French Market\, 1001 Burlington Ave\, Lisle\, IL
CATEGORIES:Public Event
END:VEVENT
BEGIN:VEVENT
DTSTART;TZID=America/Chicago:20260613T070000
DTEND;TZID=America/Chicago:20260613T120000
DTSTAMP:20260423T024328
CREATED:20260403T153104Z
LAST-MODIFIED:20260403T153235Z
UID:3771-1781334000-1781352000@midfex.org
SUMMARY:Outreach Event – Naperville Farmers Market
DESCRIPTION:See all event details HERE.
URL:https://midfex.org/event/outreach-event-naperville-farmers-market/
LOCATION:Naperville Farmers Market\, 200 East. 5th Avenue\, Naperville\, IL\, 60563\, United States
CATEGORIES:Public Event
END:VEVENT
BEGIN:VEVENT
DTSTART;TZID=America/Chicago:20260725T080000
DTEND;TZID=America/Chicago:20260725T140000
DTSTAMP:20260423T024328
CREATED:20260403T154030Z
LAST-MODIFIED:20260403T154030Z
UID:3777-1784966400-1784988000@midfex.org
SUMMARY:Outreach Event – Wheaton French Market
DESCRIPTION:See all event details HERE.
URL:https://midfex.org/event/outreach-event-wheaton-french-market/
LOCATION:Wheaton French Market\, Wheaton\, IL\, 60187\, United States
CATEGORIES:Public Event
END:VEVENT
BEGIN:VEVENT
DTSTART;TZID=America/Chicago:20260822T080000
DTEND;TZID=America/Chicago:20260822T120000
DTSTAMP:20260423T024328
CREATED:20260403T154435Z
LAST-MODIFIED:20260403T154435Z
UID:3781-1787385600-1787400000@midfex.org
SUMMARY:Outreach Event – Aurora Farmers Market
DESCRIPTION:See all event details HERE.
URL:https://midfex.org/event/outreach-event-aurora-farmers-market/
LOCATION:Aurora Farmers Market\, 65 S. Water St\, Aurora\, 60505\, United States
CATEGORIES:Public Event
END:VEVENT
BEGIN:VEVENT
DTSTART;TZID=America/Chicago:20260918T150000
DTEND;TZID=America/Chicago:20260918T190000
DTSTAMP:20260423T024328
CREATED:20260403T154744Z
LAST-MODIFIED:20260403T154744Z
UID:3784-1789743600-1789758000@midfex.org
SUMMARY:Outreach Event – Elgin Downtown Market
DESCRIPTION:See all event details HERE.
URL:https://midfex.org/event/outreach-event-elgin-downtown-market/
LOCATION:Elgin Downtown Market\, S. Riverside Dr.\, Elgin\, IL\, 60120\, United States
CATEGORIES:Public Event
END:VEVENT
BEGIN:VEVENT
DTSTART;TZID=America/Chicago:20261003T080000
DTEND;TZID=America/Chicago:20261003T120000
DTSTAMP:20260423T024328
CREATED:20260403T154958Z
LAST-MODIFIED:20260403T154958Z
UID:3787-1791014400-1791028800@midfex.org
SUMMARY:Outreach Event – Aurora Farmers Market
DESCRIPTION:See all event details HERE.
URL:https://midfex.org/event/outreach-event-aurora-farmers-market-2/
LOCATION:Aurora Farmers Market\, 65 S. Water St\, Aurora\, 60505\, United States
CATEGORIES:Public Event
END:VEVENT
BEGIN:VEVENT
DTSTART;TZID=America/Chicago:20261010T080000
DTEND;TZID=America/Chicago:20261010T123000
DTSTAMP:20260423T024328
CREATED:20260403T155300Z
LAST-MODIFIED:20260403T155300Z
UID:3789-1791619200-1791635400@midfex.org
SUMMARY:Outreach Event – Evanston Farmers Market
DESCRIPTION:See all event details HERE.
URL:https://midfex.org/event/outreach-event-evanston-farmers-market/
LOCATION:Evanston Farmers Market\, Evanston\, IL\, United States
CATEGORIES:Public Event
END:VEVENT
END:VCALENDAR